BEGIN:VCALENDAR
VERSION:2.0
PRODID:-//St. Thomas Aquinas Catholic Church - ECPv6.15.20//NONSGML v1.0//EN
CALSCALE:GREGORIAN
METHOD:PUBLISH
X-WR-CALNAME:St. Thomas Aquinas Catholic Church
X-ORIGINAL-URL:https://stanpr.org
X-WR-CALDESC:Events for St. Thomas Aquinas Catholic Church
REFRESH-INTERVAL;VALUE=DURATION:PT1H
X-Robots-Tag:noindex
X-PUBLISHED-TTL:PT1H
BEGIN:VTIMEZONE
TZID:America/New_York
BEGIN:DAYLIGHT
TZOFFSETFROM:-0500
TZOFFSETTO:-0400
TZNAME:EDT
DTSTART:20250309T070000
END:DAYLIGHT
BEGIN:STANDARD
TZOFFSETFROM:-0400
TZOFFSETTO:-0500
TZNAME:EST
DTSTART:20251102T060000
END:STANDARD
BEGIN:DAYLIGHT
TZOFFSETFROM:-0500
TZOFFSETTO:-0400
TZNAME:EDT
DTSTART:20260308T070000
END:DAYLIGHT
BEGIN:STANDARD
TZOFFSETFROM:-0400
TZOFFSETTO:-0500
TZNAME:EST
DTSTART:20261101T060000
END:STANDARD
BEGIN:DAYLIGHT
TZOFFSETFROM:-0500
TZOFFSETTO:-0400
TZNAME:EDT
DTSTART:20270314T070000
END:DAYLIGHT
BEGIN:STANDARD
TZOFFSETFROM:-0400
TZOFFSETTO:-0500
TZNAME:EST
DTSTART:20271107T060000
END:STANDARD
END:VTIMEZONE
BEGIN:VEVENT
DTSTART;TZID=America/New_York:20260207T170000
DTEND;TZID=America/New_York:20260208T120000
DTSTAMP:20260423T073626
CREATED:20260118T050220Z
LAST-MODIFIED:20260118T050220Z
UID:6563-1770483600-1770552000@stanpr.org
SUMMARY:Share the Love Theme Baskets
DESCRIPTION:Each of the classes at the STAECC will be putting together a themed basket\, which will be raffled off during our Share the Love Dinner. \nWe will be selling raffle tickets for our themed baskets outside all masses the weekend of February 7th & 8th\, so be sure to look for us then!
URL:https://stanpr.org/event/share-the-love-theme-baskets/
LOCATION:STA Church\, 8320 Old County Rd. 54\, New Port Richey\, FL\, 34653\, United States
CATEGORIES:Fundraiser
ATTACH;FMTTYPE=image/jpeg:https://stanpr.org/wp-content/uploads/2026/01/Themed.jpg
END:VEVENT
BEGIN:VEVENT
DTSTART;TZID=America/New_York:20260211T110000
DTEND;TZID=America/New_York:20260211T120000
DTSTAMP:20260423T073626
CREATED:20260129T013359Z
LAST-MODIFIED:20260129T013555Z
UID:6593-1770807600-1770811200@stanpr.org
SUMMARY:World Day of Prayer for the Sick
DESCRIPTION:On Wednesday\, February 11th\, the Feast of Our Lady of Lourdes and World Day of Prayer for the Sick\,\nwe will have a special Mass for the Sick and Homebound at 11am.\nFather Krzysztof and Father George will administer the Anointing of the Sick.\nAll are invited to bring those who are ill\, preparing for surgery or normally unable to attend Mass that they may receive the Sacrament of the Sick. All who would like to receive the Anointing of the Sick\, especially our elderly or those with terminal or chronic conditions are encouraged to attend. A reception will follow in the parish hall.
URL:https://stanpr.org/event/world-day-of-prayer-for-the-sick/
LOCATION:STA Church\, 8320 Old County Rd. 54\, New Port Richey\, FL\, 34653\, United States
ATTACH;FMTTYPE=image/jpeg:https://stanpr.org/wp-content/uploads/2026/01/World-Day-of-Prayer.jpg
END:VEVENT
BEGIN:VEVENT
DTSTART;TZID=America/New_York:20260213T180000
DTEND;TZID=America/New_York:20260213T220000
DTSTAMP:20260423T073626
CREATED:20260118T042709Z
LAST-MODIFIED:20260118T042709Z
UID:6560-1771005600-1771020000@stanpr.org
SUMMARY:Share the Love Dinner and Silent Auction
DESCRIPTION:February 13\, 2026\n6-10PM\nSeven springs Golf & Country Club\n3535 Trophy Blvd\, New Port Richey 34655 \nPlease join us for our 10th annual Share the Love Dinner & Silent Auction! Ticket includes dinner\, dessert and $200 in Casino Cash for our table games! We will also have a cash bar\, silent auction\, and we will be raffling off our ever-popular Themed Baskets! \nA night you won’t want to miss! Business sponsorships also available. All proceeds will support our Early Childhood Center. \nGo All in for A Good Cause! \nTickets $50.00 Each\nIncludes $200 in Game Play\nScan to Purchase\, or Call (727) 376-2330\n*All games will be played with “game play” money & a chance to win non-cash prizes.
URL:https://stanpr.org/event/share-the-love-dinner-and-silent-auction/
LOCATION:Seven Springs Country Club\, 5555 Trophy Blvd\, New Port Richey\, FL\, 34655\, United States
CATEGORIES:Fundraiser
ATTACH;FMTTYPE=image/png:https://stanpr.org/wp-content/uploads/2026/01/Share-the-Love.png
END:VEVENT
BEGIN:VEVENT
DTSTART;TZID=America/New_York:20260214T093000
DTEND;TZID=America/New_York:20260214T093000
DTSTAMP:20260423T073626
CREATED:20260208T224100Z
LAST-MODIFIED:20260210T211852Z
UID:6600-1771061400-1771061400@stanpr.org
SUMMARY:Extraordinary Ministers of Holy Communion Training
DESCRIPTION:Deacon Mike and Fran Capolupo will train new Eucharistic Ministers on Saturday\, February 14th at 9:30am in the Church. All current Eucharistic Ministers are encouraged to attend for a refresher course.
URL:https://stanpr.org/event/extraordinary-ministers-of-holy-communion-training/
LOCATION:STA Church\, 8320 Old County Rd. 54\, New Port Richey\, FL\, 34653\, United States
CATEGORIES:Training
ATTACH;FMTTYPE=image/jpeg:https://stanpr.org/wp-content/uploads/2026/02/EUCHARISTIC.jpg
END:VEVENT
BEGIN:VEVENT
DTSTART;TZID=America/New_York:20260214T110000
DTEND;TZID=America/New_York:20260214T110000
DTSTAMP:20260423T073626
CREATED:20260208T223115Z
LAST-MODIFIED:20260208T223115Z
UID:6598-1771066800-1771066800@stanpr.org
SUMMARY:Altar Server Training
DESCRIPTION:We will have Altar Server Training on Saturday\, February 14th at 11:00am in the Church for new and current Altar Servers.\nWe especially encourage fathers and sons to participate in the ministry together.
URL:https://stanpr.org/event/altar-server-training/
LOCATION:STA Church\, 8320 Old County Rd. 54\, New Port Richey\, FL\, 34653\, United States
CATEGORIES:Training
ATTACH;FMTTYPE=image/jpeg:https://stanpr.org/wp-content/uploads/2025/01/AltarServer-Training.jpg
END:VEVENT
BEGIN:VEVENT
DTSTART;TZID=America/New_York:20260221T093000
DTEND;TZID=America/New_York:20260221T093000
DTSTAMP:20260423T073626
CREATED:20241210T214757Z
LAST-MODIFIED:20260215T205230Z
UID:5749-1771666200-1771666200@stanpr.org
SUMMARY:Catholic Men's Fellowship
DESCRIPTION:All men are invited to Catholic Men’s Fellowship at St. Thomas Aquinas Parish\nNext gathering:  Saturday\, February 21st at 9:30am in the parish hall. Rosary at 9am before the meeting. All men are welcome!\nFor more info\, contact Carl Mogavero at 716-380-2427 or email chm.pat1961@gmail.com
URL:https://stanpr.org/event/catholic-mens-fellowship/
LOCATION:Parish Center\, 8320 Old CR 54\, New Port Richey\, FL\, 34653\, United States
ATTACH;FMTTYPE=image/jpeg:https://stanpr.org/wp-content/uploads/2024/12/LENTEN-MISSION-2.jpg
END:VEVENT
END:VCALENDAR