BEGIN:VCALENDAR
VERSION:2.0
PRODID:-//St. Thomas Aquinas Catholic Church - ECPv6.15.20//NONSGML v1.0//EN
CALSCALE:GREGORIAN
METHOD:PUBLISH
X-WR-CALNAME:St. Thomas Aquinas Catholic Church
X-ORIGINAL-URL:https://stanpr.org
X-WR-CALDESC:Events for St. Thomas Aquinas Catholic Church
REFRESH-INTERVAL;VALUE=DURATION:PT1H
X-Robots-Tag:noindex
X-PUBLISHED-TTL:PT1H
BEGIN:VTIMEZONE
TZID:America/New_York
BEGIN:DAYLIGHT
TZOFFSETFROM:-0500
TZOFFSETTO:-0400
TZNAME:EDT
DTSTART:20240310T070000
END:DAYLIGHT
BEGIN:STANDARD
TZOFFSETFROM:-0400
TZOFFSETTO:-0500
TZNAME:EST
DTSTART:20241103T060000
END:STANDARD
BEGIN:DAYLIGHT
TZOFFSETFROM:-0500
TZOFFSETTO:-0400
TZNAME:EDT
DTSTART:20250309T070000
END:DAYLIGHT
BEGIN:STANDARD
TZOFFSETFROM:-0400
TZOFFSETTO:-0500
TZNAME:EST
DTSTART:20251102T060000
END:STANDARD
BEGIN:DAYLIGHT
TZOFFSETFROM:-0500
TZOFFSETTO:-0400
TZNAME:EDT
DTSTART:20260308T070000
END:DAYLIGHT
BEGIN:STANDARD
TZOFFSETFROM:-0400
TZOFFSETTO:-0500
TZNAME:EST
DTSTART:20261101T060000
END:STANDARD
BEGIN:DAYLIGHT
TZOFFSETFROM:-0500
TZOFFSETTO:-0400
TZNAME:EDT
DTSTART:20270314T070000
END:DAYLIGHT
BEGIN:STANDARD
TZOFFSETFROM:-0400
TZOFFSETTO:-0500
TZNAME:EST
DTSTART:20271107T060000
END:STANDARD
END:VTIMEZONE
BEGIN:VEVENT
DTSTART;VALUE=DATE:20260119
DTEND;VALUE=DATE:20260123
DTSTAMP:20260423T162437
CREATED:20251204T221328Z
LAST-MODIFIED:20251204T222252Z
UID:6528-1768780800-1769126399@stanpr.org
SUMMARY:Four Days of Miracles
DESCRIPTION:St. Thomas Aquinas Catholic Church\npresents\nFOUR DAYS OF MIRACLES\nA Series of Presentation and Exhibits \nMonday\, January 19th – Thursday\, January 22nd\nThis event is FREE and OPEN TO ALL\nSt. Thomas Aquinas Parish Hall\n8320 Old County Road 54\, New Port Richey \n________________________________________________________ \nEucharistic Miracles\nLife Presentation in Church\nMonday\, January 19th: 6:30pm\nTuesday\, January 20th: 8:45am \nExhibit Browsing in Parish Hall\nMonday\, January 19th: 4:00 – 8:00pm\nTuesday\, January 20th: 8:45am – 12noon \nA Vatican sponsored exhibit highlighting 1800 years of Eucharistic Miracles\ncreated by Blessed Carlo Acutis – as seen on EWTN. \n________________________________________________________ \nSacred Cloths of the Passion\nLife Presentation in Church\nTuesday\, January 20th: 6:30pm\nWednesday\, January 21st: 8:45am \nExhibit Browsing in Parish Hall\nTuesday\, January 20th: 5:30 – 8:30pm\nWednesday\, January 21st: 8:45am – 12noon \nUsing faith\, history\, and science\, explore how the shroud image formed and\nthe scientific links among the Shroud of Turin\, Sudarium and Tunic. \n________________________________________________________ \nLife After Life\nLife Presentation in Church\nWednesday\, January 22nd: 6:30pm\nThursday\, January 22nd: 8:45am \nExhibit Browsing in Parish Hall\nWednesday\, January 22nd: 5:30 – 8:30pm\nThursday\, January 22nd: 8:45am – 12noon \nExplore scientific confirmation of our Soul\, consciousness\, surviving death\,\nand the conversion experience of survivors. \n________________________________________________________ \nFor more information\, call 727-372-8600 \nPresented by Faith Based Communications | www.FaithBasedComm.com
URL:https://stanpr.org/event/four-days-of-miracles/
LOCATION:STA Church\, 8320 Old County Rd. 54\, New Port Richey\, FL\, 34653\, United States
CATEGORIES:Faith Based
ATTACH;FMTTYPE=image/jpeg:https://stanpr.org/wp-content/uploads/2025/12/Days-of.jpg
END:VEVENT
BEGIN:VEVENT
DTSTART;TZID=America/New_York:20260110T073000
DTEND;TZID=America/New_York:20260111T123000
DTSTAMP:20260423T162437
CREATED:20251130T205147Z
LAST-MODIFIED:20260104T191343Z
UID:6512-1768030200-1768134600@stanpr.org
SUMMARY:Catholic Daughters of Americas Bake Sale
DESCRIPTION:The Catholic Daughters of Americas is having a Bake Sale on Saturday and Sunday\, January 10th & 11th after all Masses in the Parish Hall.
URL:https://stanpr.org/event/craft-and-bake-sale/
LOCATION:Parish Center\, 8320 Old CR 54\, New Port Richey\, FL\, 34653\, United States
CATEGORIES:Sunday
ATTACH;FMTTYPE=image/jpeg:https://stanpr.org/wp-content/uploads/2025/01/Bake-Sale.jpg
END:VEVENT
BEGIN:VEVENT
DTSTART;TZID=America/New_York:20251108T083000
DTEND;TZID=America/New_York:20251108T233000
DTSTAMP:20260423T162437
CREATED:20250921T134330Z
LAST-MODIFIED:20250921T134340Z
UID:6466-1762590600-1762644600@stanpr.org
SUMMARY:STA Crafting with Care
DESCRIPTION:Woodburning Event with Carolyn\nSaturday\, November 8th\n8:30 – 11:30am\nParish Hall\nLight refreshments will be served\nMaximum capacity is 10 individuals\n$15 tickets includes supplies and must be bought in advance after most Masses beginning October 12 – November 2 or until availability runs out. \nEventsandActivitiesSTAnpr@gmail.com
URL:https://stanpr.org/event/sta-crafting-with-care/
LOCATION:Parish Center\, 8320 Old CR 54\, New Port Richey\, FL\, 34653\, United States
CATEGORIES:Events & Activities
ATTACH;FMTTYPE=image/jpeg:https://stanpr.org/wp-content/uploads/2025/09/Crafting-with-care.jpg
END:VEVENT
BEGIN:VEVENT
DTSTART;TZID=America/New_York:20251007T183000
DTEND;TZID=America/New_York:20251007T183000
DTSTAMP:20260423T162437
CREATED:20250921T130134Z
LAST-MODIFIED:20250921T130134Z
UID:6453-1759861800-1759861800@stanpr.org
SUMMARY:Prayer Meeting
DESCRIPTION:Meets from September – November\, January – May. Each 1st and 3rd Tuesday evening at 6:30 P.M. the prayer group meets in the chapel in the Parish Center to celebrate the Eucharist. Following Mass\, the prayer group takes part in a time of prayer and worship. This is best described by St. Paul in the following scriptures.
URL:https://stanpr.org/event/prayer-meeting/
LOCATION:Parish Center\, 8320 Old CR 54\, New Port Richey\, FL\, 34653\, United States
ATTACH;FMTTYPE=image/jpeg:https://stanpr.org/wp-content/uploads/2025/09/Prayer-Meeting.jpg
END:VEVENT
BEGIN:VEVENT
DTSTART;TZID=America/New_York:20250910T100000
DTEND;TZID=America/New_York:20250910T120000
DTSTAMP:20260423T162437
CREATED:20250902T223201Z
LAST-MODIFIED:20250902T225222Z
UID:6427-1757498400-1757505600@stanpr.org
SUMMARY:The Women of Faith Bible Study
DESCRIPTION:The Women of Faith Bible Study will resume its meetings on  WEDNESDAY\, SEPTEMBER 10\, 2025 *at a new time: 10am – 12noon in the Parish Center Chapel. Welcome to this year’s study:  The Holy Spirit in the Bible Little Rock Scripture Study by George M. Smiga. \n*Please call or text Tina Risso at 727-597-9171\, if you have any questions.
URL:https://stanpr.org/event/the-women-of-faith-bible-study/
LOCATION:Parish Chapel
CATEGORIES:Bible study
ATTACH;FMTTYPE=image/jpeg:https://stanpr.org/wp-content/uploads/2025/09/Womens-Faith-Group-01.jpg
END:VEVENT
BEGIN:VEVENT
DTSTART;TZID=America/New_York:20250517T170000
DTEND;TZID=America/New_York:20250517T180000
DTSTAMP:20260423T162437
CREATED:20250423T182015Z
LAST-MODIFIED:20250516T145931Z
UID:6220-1747501200-1747504800@stanpr.org
SUMMARY:KOC Spaghetti Dinner
DESCRIPTION:5:00 pm – 7:00pm in the Parish Center \nMENU\nAll you can eat Pasta & 2 meatballs for adults\n1 meatball for children\nSalad\nItalian Cookie\nWater\, Tea\, Lemonade\nEXTRAS\nExtra Meatballs 2/$2.00\nWine $4.00/glass\nCannoli $3.oo each \nTickets are $15 at the door (Adults 13 & up)\nUnder 13 FREE\nFamily Special (3 Adults – 2 Children)\n$30 at the door\nSave $5!\nBuy your tickets in advance\nClick here to purchase Individual tickets in advance \nClick here to purchase Family Special tickets in advance
URL:https://stanpr.org/event/koc-spaghetti-dinner/
LOCATION:Parish Center\, 8320 Old CR 54\, New Port Richey\, FL\, 34653\, United States
CATEGORIES:KOC,Social
ATTACH;FMTTYPE=image/jpeg:https://stanpr.org/wp-content/uploads/2025/04/KOCspaghetti-dinner.jpg
END:VEVENT
BEGIN:VEVENT
DTSTART;VALUE=DATE:20250208
DTEND;VALUE=DATE:20250210
DTSTAMP:20260423T162437
CREATED:20250208T001644Z
LAST-MODIFIED:20250208T001644Z
UID:5893-1738972800-1739145599@stanpr.org
SUMMARY:St. Vincent de Paul collection
DESCRIPTION:Our St. Vincent de Paul Society will be collecting monetary donations at all doors of the church this weekend\, February 8 & 9. \nLast month\, we collected $2\,103.00. \nWe thank you so much for your continued generosity!
URL:https://stanpr.org/event/st-vincent-de-paul-collection/
LOCATION:FL
ATTACH;FMTTYPE=image/png:https://stanpr.org/wp-content/uploads/2020/01/SVdeP-Logo.png
END:VEVENT
BEGIN:VEVENT
DTSTART;TZID=America/New_York:20250116T190000
DTEND;TZID=America/New_York:20250116T190000
DTSTAMP:20260423T162437
CREATED:20240522T211003Z
LAST-MODIFIED:20250109T165214Z
UID:5460-1737054000-1737054000@stanpr.org
SUMMARY:Thursday Night Bible Study
DESCRIPTION:The Bible Study group meets weekly to study\, reflect\, and share God’s Word. While Bible Study is generally focused on the upcoming Sunday readings from the Old Testament\, New Testament\, and Gospel\, there are also other various learning opportunities\, such as sessions focused on a specific book from Scripture or on various topics like covenants\, church history\, and more spread throughout the year.\nFor more information\, visit our website!
URL:https://stanpr.org/event/thursday-night-bible-study/
LOCATION:Parish Center\, 8320 Old CR 54\, New Port Richey\, FL\, 34653\, United States
CATEGORIES:Bible study
ATTACH;FMTTYPE=image/jpeg:https://stanpr.org/wp-content/uploads/2020/09/unnamed.jpg
END:VEVENT
END:VCALENDAR