BEGIN:VCALENDAR
VERSION:2.0
PRODID:-//St. Thomas Aquinas Catholic Church - ECPv6.15.20//NONSGML v1.0//EN
CALSCALE:GREGORIAN
METHOD:PUBLISH
X-ORIGINAL-URL:https://stanpr.org
X-WR-CALDESC:Events for St. Thomas Aquinas Catholic Church
REFRESH-INTERVAL;VALUE=DURATION:PT1H
X-Robots-Tag:noindex
X-PUBLISHED-TTL:PT1H
BEGIN:VTIMEZONE
TZID:America/New_York
BEGIN:DAYLIGHT
TZOFFSETFROM:-0500
TZOFFSETTO:-0400
TZNAME:EDT
DTSTART:20250309T070000
END:DAYLIGHT
BEGIN:STANDARD
TZOFFSETFROM:-0400
TZOFFSETTO:-0500
TZNAME:EST
DTSTART:20251102T060000
END:STANDARD
BEGIN:DAYLIGHT
TZOFFSETFROM:-0500
TZOFFSETTO:-0400
TZNAME:EDT
DTSTART:20260308T070000
END:DAYLIGHT
BEGIN:STANDARD
TZOFFSETFROM:-0400
TZOFFSETTO:-0500
TZNAME:EST
DTSTART:20261101T060000
END:STANDARD
BEGIN:DAYLIGHT
TZOFFSETFROM:-0500
TZOFFSETTO:-0400
TZNAME:EDT
DTSTART:20270314T070000
END:DAYLIGHT
BEGIN:STANDARD
TZOFFSETFROM:-0400
TZOFFSETTO:-0500
TZNAME:EST
DTSTART:20271107T060000
END:STANDARD
END:VTIMEZONE
BEGIN:VEVENT
DTSTART;TZID=America/New_York:20260424T180000
DTEND;TZID=America/New_York:20260424T210000
DTSTAMP:20260423T072512
CREATED:20260411T011548Z
LAST-MODIFIED:20260411T011600Z
UID:6754-1777053600-1777064400@stanpr.org
SUMMARY:STA Trivia Night
DESCRIPTION:St. Thomas Aquinas Catholic Church \nFriday\, April 24 • 6–9 PM \nBring a team or join one — everyone is welcome! \nCost: $10 per player • $50 full team (up to 6) \nIncludes Pizza\, Cookies & Drinks • Concessions available for purchase \nTeams: Up to 6 players. Individuals & partial teams welcome — we will help form teams. \nCategories: Saints & Martyrs • Church History • Prayer & Devotion • Scripture \nCatholic Symbols & Traditions • Catholic Pop Culture \nPrize for the winning team + Catholic giveaways \nReserve Your Spot!
URL:https://stanpr.org/event/sta-trivia-night/
LOCATION:Parish Center\, 8320 Old CR 54\, New Port Richey\, FL\, 34653\, United States
ATTACH;FMTTYPE=image/jpeg:https://stanpr.org/wp-content/uploads/2026/04/Trivia-Night.jpeg
END:VEVENT
BEGIN:VEVENT
DTSTART;TZID=America/New_York:20260713T090000
DTEND;TZID=America/New_York:20260717T120000
DTSTAMP:20260423T072512
CREATED:20260408T004452Z
LAST-MODIFIED:20260409T221117Z
UID:6672-1783933200-1784289600@stanpr.org
SUMMARY:Vacation Bible School
DESCRIPTION:VBS 2026\nJuly 13-17\nCampers ~\nMonday – Thursday\, 9:00am – Noon;\nFriday\, 9:00am – End of 12:30 Mass\nAdult and Teen Volunteers* ~\nM-TH\, 8:00am-Noon;\nF\, 8:00am-End of 12:30 Mass\nWe’re getting in our Time Machines and\ngoing back to celebrate\nGOD’S CREATION!\nfor more information\, check out the VBS webpage! \nWish to volunteer\, download the form below and bring it to the office. \nJunior Volunteer\nTeen Volunteer\nAdult Volunteer \nReady for the adventure? Download the registration form\, fill it out and drop it off at the Faith Formation Office to secure your child’s spot. \nWe can’t wait for your child to navigate their faith journey with us at Rainforest Falls VBS! \nContact Michaela Myers for more information: michaela@stanpr.org or call 727-372-8600 x133.
URL:https://stanpr.org/event/vacation-bible-school/
LOCATION:Parish Center\, 8320 Old CR 54\, New Port Richey\, FL\, 34653\, United States
CATEGORIES:VBS
ATTACH;FMTTYPE=image/jpeg:https://stanpr.org/wp-content/uploads/2026/04/vbs-hEADER-SMALL.jpg
END:VEVENT
END:VCALENDAR