BEGIN:VCALENDAR
VERSION:2.0
PRODID:-//St. Thomas Aquinas Catholic Church - ECPv6.15.20//NONSGML v1.0//EN
CALSCALE:GREGORIAN
METHOD:PUBLISH
X-WR-CALNAME:St. Thomas Aquinas Catholic Church
X-ORIGINAL-URL:https://stanpr.org
X-WR-CALDESC:Events for St. Thomas Aquinas Catholic Church
REFRESH-INTERVAL;VALUE=DURATION:PT1H
X-Robots-Tag:noindex
X-PUBLISHED-TTL:PT1H
BEGIN:VTIMEZONE
TZID:America/New_York
BEGIN:DAYLIGHT
TZOFFSETFROM:-0500
TZOFFSETTO:-0400
TZNAME:EDT
DTSTART:20250309T070000
END:DAYLIGHT
BEGIN:STANDARD
TZOFFSETFROM:-0400
TZOFFSETTO:-0500
TZNAME:EST
DTSTART:20251102T060000
END:STANDARD
BEGIN:DAYLIGHT
TZOFFSETFROM:-0500
TZOFFSETTO:-0400
TZNAME:EDT
DTSTART:20260308T070000
END:DAYLIGHT
BEGIN:STANDARD
TZOFFSETFROM:-0400
TZOFFSETTO:-0500
TZNAME:EST
DTSTART:20261101T060000
END:STANDARD
BEGIN:DAYLIGHT
TZOFFSETFROM:-0500
TZOFFSETTO:-0400
TZNAME:EDT
DTSTART:20270314T070000
END:DAYLIGHT
BEGIN:STANDARD
TZOFFSETFROM:-0400
TZOFFSETTO:-0500
TZNAME:EST
DTSTART:20271107T060000
END:STANDARD
END:VTIMEZONE
BEGIN:VEVENT
DTSTART;TZID=America/New_York:20260412T150000
DTEND;TZID=America/New_York:20260412T150000
DTSTAMP:20260423T111549
CREATED:20260408T014446Z
LAST-MODIFIED:20260408T015010Z
UID:6708-1776006000-1776006000@stanpr.org
SUMMARY:Divine Mercy Sunday
DESCRIPTION:Please join us for a peaceful and grace-filled afternoon on Divine Mercy Sunday\, April 12th. Beginning at 3:00 PM—the Hour of Mercy—we will gather for a special Divine Mercy Celebration featuring Eucharistic Adoration\, Confession\, and the recitation of the Chaplet of Divine Mercy. Please note that all weekend Masses will take place at their regularly scheduled times. \nWhat is Divine Mercy Sunday?\nDivine Mercy Sunday is a special feast in the Catholic Church celebrated on the Sunday after Easter\, dedicated to the boundless mercy and love of God. Instituted by Saint John Paul II in the year 2000\, it is rooted in the revelations of Jesus to Saint Faustina Kowalska\, who shared the message of trusting in God’s mercy and extending that mercy to others. \nWhat is Divine Mercy?\nDivine Mercy is the infinite love\, compassion\, and forgiveness that God offers to every person. It is the way God reaches out to us in our weakness\, our sins\, and our struggles—not with judgment\, but with healing and grace. At its heart\, Divine Mercy is a message of hope: no matter how far we may feel from God\, His mercy is always greater. He invites us to trust in Him\, to receive His forgiveness\, and to share that same mercy with others through kindness\, patience\, and love. Simply put\, Divine Mercy is God’s love in action—poured out for the world and available to all who turn to Him.
URL:https://stanpr.org/event/divine-mercy-sunday/
CATEGORIES:Faith Based,Sunday
ATTACH;FMTTYPE=image/jpeg:https://stanpr.org/wp-content/uploads/2026/04/divine-mercy-sunday.jpg
END:VEVENT
BEGIN:VEVENT
DTSTART;TZID=America/New_York:20260315T080000
DTEND;TZID=America/New_York:20260315T120000
DTSTAMP:20260423T111549
CREATED:20240731T012437Z
LAST-MODIFIED:20260309T024126Z
UID:5556-1773561600-1773576000@stanpr.org
SUMMARY:KOC Pancake Breakfast
DESCRIPTION:DELUXE PANCAKE BREAKFAST\nKnights of Columbus Council 11497\n\nPrepared and served after ALL morning Masses\nSunday\, March 15th\nJoin us for a hot and tasty meal…Come to the Parish Center Hall and bring a friend!\n\nGenerous portions of Pancakes/Butter\, Hot Maple Syrup\, Scrambled Eggs\, Sausage\, Hot Coffee\, Iced Tea\, Orange Juice\, Water\n\n$8 Adults\, $4 Children under 12\, 5 and under Free!\nAccepting Credit Cards\, Cash
URL:https://stanpr.org/event/deluxe-pancake-breakfast/
LOCATION:Parish Center\, 8320 Old CR 54\, New Port Richey\, FL\, 34653\, United States
CATEGORIES:KOC,Sunday
ATTACH;FMTTYPE=image/jpeg:https://stanpr.org/wp-content/uploads/2018/07/pancakebreakfast-1.jpg
END:VEVENT
BEGIN:VEVENT
DTSTART;TZID=America/New_York:20260301T074500
DTEND;TZID=America/New_York:20260301T120000
DTSTAMP:20260423T111549
CREATED:20250225T000022Z
LAST-MODIFIED:20260210T210706Z
UID:5586-1772351100-1772366400@stanpr.org
SUMMARY:Fellowship Sunday
DESCRIPTION:The first Sunday of each month is Fellowship Sunday\nSt. Martha Hospitality Ministry invites YOU to get to know your fellow parishioners after all Sunday morning Masses.\n\nEnjoy coffee\, juice and something sweet!\nStop by and visit this week’s Saint of the month!\nPick up a prayer card\, pose for a photo and learn about our spotlight Saint!\n\nPlease come and join us!\nWe want to meet YOU!
URL:https://stanpr.org/event/fellowship-sunday/
LOCATION:Parish Center\, 8320 Old CR 54\, New Port Richey\, FL\, 34653\, United States
CATEGORIES:Social,Sunday
ATTACH;FMTTYPE=image/jpeg:https://stanpr.org/wp-content/uploads/2023/09/FellowshipSunday.jpg
END:VEVENT
BEGIN:VEVENT
DTSTART;TZID=America/New_York:20260110T073000
DTEND;TZID=America/New_York:20260111T123000
DTSTAMP:20260423T111549
CREATED:20251130T205147Z
LAST-MODIFIED:20260104T191343Z
UID:6512-1768030200-1768134600@stanpr.org
SUMMARY:Catholic Daughters of Americas Bake Sale
DESCRIPTION:The Catholic Daughters of Americas is having a Bake Sale on Saturday and Sunday\, January 10th & 11th after all Masses in the Parish Hall.
URL:https://stanpr.org/event/craft-and-bake-sale/
LOCATION:Parish Center\, 8320 Old CR 54\, New Port Richey\, FL\, 34653\, United States
CATEGORIES:Sunday
ATTACH;FMTTYPE=image/jpeg:https://stanpr.org/wp-content/uploads/2025/01/Bake-Sale.jpg
END:VEVENT
END:VCALENDAR