BEGIN:VCALENDAR
VERSION:2.0
PRODID:-//St. Thomas Aquinas Catholic Church - ECPv6.15.20//NONSGML v1.0//EN
CALSCALE:GREGORIAN
METHOD:PUBLISH
X-WR-CALNAME:St. Thomas Aquinas Catholic Church
X-ORIGINAL-URL:https://stanpr.org
X-WR-CALDESC:Events for St. Thomas Aquinas Catholic Church
REFRESH-INTERVAL;VALUE=DURATION:PT1H
X-Robots-Tag:noindex
X-PUBLISHED-TTL:PT1H
BEGIN:VTIMEZONE
TZID:America/New_York
BEGIN:DAYLIGHT
TZOFFSETFROM:-0500
TZOFFSETTO:-0400
TZNAME:EDT
DTSTART:20240310T070000
END:DAYLIGHT
BEGIN:STANDARD
TZOFFSETFROM:-0400
TZOFFSETTO:-0500
TZNAME:EST
DTSTART:20241103T060000
END:STANDARD
BEGIN:DAYLIGHT
TZOFFSETFROM:-0500
TZOFFSETTO:-0400
TZNAME:EDT
DTSTART:20250309T070000
END:DAYLIGHT
BEGIN:STANDARD
TZOFFSETFROM:-0400
TZOFFSETTO:-0500
TZNAME:EST
DTSTART:20251102T060000
END:STANDARD
BEGIN:DAYLIGHT
TZOFFSETFROM:-0500
TZOFFSETTO:-0400
TZNAME:EDT
DTSTART:20260308T070000
END:DAYLIGHT
BEGIN:STANDARD
TZOFFSETFROM:-0400
TZOFFSETTO:-0500
TZNAME:EST
DTSTART:20261101T060000
END:STANDARD
END:VTIMEZONE
BEGIN:VEVENT
DTSTART;TZID=America/New_York:20250910T100000
DTEND;TZID=America/New_York:20250910T120000
DTSTAMP:20260424T083657
CREATED:20250902T223201Z
LAST-MODIFIED:20250902T225222Z
UID:6427-1757498400-1757505600@stanpr.org
SUMMARY:The Women of Faith Bible Study
DESCRIPTION:The Women of Faith Bible Study will resume its meetings on  WEDNESDAY\, SEPTEMBER 10\, 2025 *at a new time: 10am – 12noon in the Parish Center Chapel. Welcome to this year’s study:  The Holy Spirit in the Bible Little Rock Scripture Study by George M. Smiga. \n*Please call or text Tina Risso at 727-597-9171\, if you have any questions.
URL:https://stanpr.org/event/the-women-of-faith-bible-study/
LOCATION:Parish Chapel
CATEGORIES:Bible study
ATTACH;FMTTYPE=image/jpeg:https://stanpr.org/wp-content/uploads/2025/09/Womens-Faith-Group-01.jpg
END:VEVENT
END:VCALENDAR