BEGIN:VCALENDAR
VERSION:2.0
PRODID:-//St. Thomas Aquinas Catholic Church - ECPv6.15.20//NONSGML v1.0//EN
CALSCALE:GREGORIAN
METHOD:PUBLISH
X-WR-CALNAME:St. Thomas Aquinas Catholic Church
X-ORIGINAL-URL:https://stanpr.org
X-WR-CALDESC:Events for St. Thomas Aquinas Catholic Church
REFRESH-INTERVAL;VALUE=DURATION:PT1H
X-Robots-Tag:noindex
X-PUBLISHED-TTL:PT1H
BEGIN:VTIMEZONE
TZID:America/New_York
BEGIN:DAYLIGHT
TZOFFSETFROM:-0500
TZOFFSETTO:-0400
TZNAME:EDT
DTSTART:20250309T070000
END:DAYLIGHT
BEGIN:STANDARD
TZOFFSETFROM:-0400
TZOFFSETTO:-0500
TZNAME:EST
DTSTART:20251102T060000
END:STANDARD
BEGIN:DAYLIGHT
TZOFFSETFROM:-0500
TZOFFSETTO:-0400
TZNAME:EDT
DTSTART:20260308T070000
END:DAYLIGHT
BEGIN:STANDARD
TZOFFSETFROM:-0400
TZOFFSETTO:-0500
TZNAME:EST
DTSTART:20261101T060000
END:STANDARD
BEGIN:DAYLIGHT
TZOFFSETFROM:-0500
TZOFFSETTO:-0400
TZNAME:EDT
DTSTART:20270314T070000
END:DAYLIGHT
BEGIN:STANDARD
TZOFFSETFROM:-0400
TZOFFSETTO:-0500
TZNAME:EST
DTSTART:20271107T060000
END:STANDARD
END:VTIMEZONE
BEGIN:VEVENT
DTSTART;TZID=America/New_York:20260408T190000
DTEND;TZID=America/New_York:20260408T203000
DTSTAMP:20260423T054549
CREATED:20260408T015536Z
LAST-MODIFIED:20260408T015536Z
UID:6715-1775674800-1775680200@stanpr.org
SUMMARY:STA's Sisters in Christ - Spring Open House
DESCRIPTION:Join us for our annual Open House!\nAn opportunity to meet the women behind STA’s Sisters in Christ! We are looking to grow our ministry and would love for you to join us! \nWe invite all women of the parish to come and enjoy good and fellowship\, getting to know your STA Sisters in Christ. \nApril 8\, 2026\, from 7:00pm 0 8:30pm\nSt. Thomas Aquinas Parish Hall\nfor more info or to RSVP\, email sistersinchrist@stanpr.org
URL:https://stanpr.org/event/stas-sisters-in-christ-spring-open-house/
CATEGORIES:Sisters in Christ,Social
ATTACH;FMTTYPE=image/png:https://stanpr.org/wp-content/uploads/2026/04/Screenshot-2026-04-07-215454.png
END:VEVENT
END:VCALENDAR