BEGIN:VCALENDAR
VERSION:2.0
PRODID:-//St. Thomas Aquinas Catholic Church - ECPv6.15.20//NONSGML v1.0//EN
CALSCALE:GREGORIAN
METHOD:PUBLISH
X-WR-CALNAME:St. Thomas Aquinas Catholic Church
X-ORIGINAL-URL:https://stanpr.org
X-WR-CALDESC:Events for St. Thomas Aquinas Catholic Church
REFRESH-INTERVAL;VALUE=DURATION:PT1H
X-Robots-Tag:noindex
X-PUBLISHED-TTL:PT1H
BEGIN:VTIMEZONE
TZID:America/New_York
BEGIN:DAYLIGHT
TZOFFSETFROM:-0500
TZOFFSETTO:-0400
TZNAME:EDT
DTSTART:20250309T070000
END:DAYLIGHT
BEGIN:STANDARD
TZOFFSETFROM:-0400
TZOFFSETTO:-0500
TZNAME:EST
DTSTART:20251102T060000
END:STANDARD
BEGIN:DAYLIGHT
TZOFFSETFROM:-0500
TZOFFSETTO:-0400
TZNAME:EDT
DTSTART:20260308T070000
END:DAYLIGHT
BEGIN:STANDARD
TZOFFSETFROM:-0400
TZOFFSETTO:-0500
TZNAME:EST
DTSTART:20261101T060000
END:STANDARD
BEGIN:DAYLIGHT
TZOFFSETFROM:-0500
TZOFFSETTO:-0400
TZNAME:EDT
DTSTART:20270314T070000
END:DAYLIGHT
BEGIN:STANDARD
TZOFFSETFROM:-0400
TZOFFSETTO:-0500
TZNAME:EST
DTSTART:20271107T060000
END:STANDARD
END:VTIMEZONE
BEGIN:VEVENT
DTSTART;TZID=America/New_York:20260214T093000
DTEND;TZID=America/New_York:20260214T093000
DTSTAMP:20260423T092633
CREATED:20260208T224100Z
LAST-MODIFIED:20260210T211852Z
UID:6600-1771061400-1771061400@stanpr.org
SUMMARY:Extraordinary Ministers of Holy Communion Training
DESCRIPTION:Deacon Mike and Fran Capolupo will train new Eucharistic Ministers on Saturday\, February 14th at 9:30am in the Church. All current Eucharistic Ministers are encouraged to attend for a refresher course.
URL:https://stanpr.org/event/extraordinary-ministers-of-holy-communion-training/
LOCATION:STA Church\, 8320 Old County Rd. 54\, New Port Richey\, FL\, 34653\, United States
CATEGORIES:Training
ATTACH;FMTTYPE=image/jpeg:https://stanpr.org/wp-content/uploads/2026/02/EUCHARISTIC.jpg
END:VEVENT
BEGIN:VEVENT
DTSTART;TZID=America/New_York:20260214T110000
DTEND;TZID=America/New_York:20260214T110000
DTSTAMP:20260423T092633
CREATED:20260208T223115Z
LAST-MODIFIED:20260208T223115Z
UID:6598-1771066800-1771066800@stanpr.org
SUMMARY:Altar Server Training
DESCRIPTION:We will have Altar Server Training on Saturday\, February 14th at 11:00am in the Church for new and current Altar Servers.\nWe especially encourage fathers and sons to participate in the ministry together.
URL:https://stanpr.org/event/altar-server-training/
LOCATION:STA Church\, 8320 Old County Rd. 54\, New Port Richey\, FL\, 34653\, United States
CATEGORIES:Training
ATTACH;FMTTYPE=image/jpeg:https://stanpr.org/wp-content/uploads/2025/01/AltarServer-Training.jpg
END:VEVENT
END:VCALENDAR