BEGIN:VCALENDAR
VERSION:2.0
PRODID:-//St. Thomas Aquinas Catholic Church - ECPv6.15.20//NONSGML v1.0//EN
CALSCALE:GREGORIAN
METHOD:PUBLISH
X-ORIGINAL-URL:https://stanpr.org
X-WR-CALDESC:Events for St. Thomas Aquinas Catholic Church
REFRESH-INTERVAL;VALUE=DURATION:PT1H
X-Robots-Tag:noindex
X-PUBLISHED-TTL:PT1H
BEGIN:VTIMEZONE
TZID:America/New_York
BEGIN:DAYLIGHT
TZOFFSETFROM:-0500
TZOFFSETTO:-0400
TZNAME:EDT
DTSTART:20240310T070000
END:DAYLIGHT
BEGIN:STANDARD
TZOFFSETFROM:-0400
TZOFFSETTO:-0500
TZNAME:EST
DTSTART:20241103T060000
END:STANDARD
BEGIN:DAYLIGHT
TZOFFSETFROM:-0500
TZOFFSETTO:-0400
TZNAME:EDT
DTSTART:20250309T070000
END:DAYLIGHT
BEGIN:STANDARD
TZOFFSETFROM:-0400
TZOFFSETTO:-0500
TZNAME:EST
DTSTART:20251102T060000
END:STANDARD
BEGIN:DAYLIGHT
TZOFFSETFROM:-0500
TZOFFSETTO:-0400
TZNAME:EDT
DTSTART:20260308T070000
END:DAYLIGHT
BEGIN:STANDARD
TZOFFSETFROM:-0400
TZOFFSETTO:-0500
TZNAME:EST
DTSTART:20261101T060000
END:STANDARD
END:VTIMEZONE
BEGIN:VEVENT
DTSTART;TZID=America/New_York:20251007T183000
DTEND;TZID=America/New_York:20251007T183000
DTSTAMP:20260425T073429
CREATED:20250921T130134Z
LAST-MODIFIED:20250921T130134Z
UID:6453-1759861800-1759861800@stanpr.org
SUMMARY:Prayer Meeting
DESCRIPTION:Meets from September – November\, January – May. Each 1st and 3rd Tuesday evening at 6:30 P.M. the prayer group meets in the chapel in the Parish Center to celebrate the Eucharist. Following Mass\, the prayer group takes part in a time of prayer and worship. This is best described by St. Paul in the following scriptures.
URL:https://stanpr.org/event/prayer-meeting/
LOCATION:Parish Center\, 8320 Old CR 54\, New Port Richey\, FL\, 34653\, United States
ATTACH;FMTTYPE=image/jpeg:https://stanpr.org/wp-content/uploads/2025/09/Prayer-Meeting.jpg
END:VEVENT
END:VCALENDAR